Workbook

Sheet Guidance
A1: GLUDS legat - budget template - 2026
A2: Please provide
A3: only input in yellow fields
A4: Key information in Budget Summary
A5: Information on participants and funding in Budget_input
A6: Print to pdf - budget summary and budget input

Sheet Budget_summary
A1: Gluds legat SUMMARY
A3: Project title
A4: Name of main applicant
A5: Applicant's institution / company
A6: CVR number of applicant's institution/company
A7: Starting date | B7: 46357
A9: A: Total expenditure budget | B9: Total | C9: =YEAR(B7) -> 2026 | D9: =C9+1 -> 2027 | E9: =D9+1 -> 2028 | F9: =E9+1 -> 2029 | G9: =F9+1 -> 2030
A10: VIP salaries | B10: =SUM(C10:G10) -> 0 | C10: =SUM(C17,C24,C31) -> 0 | D10: =SUM(D17,D24,D31) -> 0 | E10: =SUM(E17,E24,E31) -> 0 | F10: =SUM(F17,F24,F31) -> 0 | G10: =SUM(G17,G24,G31) -> 0
A11: TAP salaries | B11: =SUM(C11:G11) -> 0 | C11: =SUM(C18,C25,C32) -> 0 | D11: =SUM(D18,D25,D32) -> 0 | E11: =SUM(E18,E25,E32) -> 0 | F11: =SUM(F18,F25,F32) -> 0 | G11: =SUM(G18,G25,G32) -> 0
A12: Equipment expenses | B12: =SUM(C12:G12) -> 0 | C12: =SUM(C19,C26,C33) -> 0 | D12: =SUM(D19,D26,D33) -> 0 | E12: =SUM(E19,E26,E33) -> 0 | F12: =SUM(F19,F26,F33) -> 0 | G12: =SUM(G19,G26,G33) -> 0
A13: Operating expenses | B13: =SUM(C13:G13) -> 0 | C13: =SUM(C20,C27,C34) -> 0 | D13: =SUM(D20,D27,D34) -> 0 | E13: =SUM(E20,E27,E34) -> 0 | F13: =SUM(F20,F27,F34) -> 0 | G13: =SUM(G20,G27,G34) -> 0
A14: Total budget | B14: =SUM(B10:B13) -> 0 | C14: =SUM(C10:C13) -> 0 | D14: =SUM(D10:D13) -> 0 | E14: =SUM(E10:E13) -> 0 | F14: =SUM(F10:F13) -> 0 | G14: =SUM(G10:G13) -> 0
A16: B: Gluds legat applied | B16: Total | C16: =C9 -> 2026 | D16: =D9 -> 2027 | E16: =E9 -> 2028 | F16: =F9 -> 2029 | G16: =G9 -> 2030
A17: VIP salaries | B17: =SUM(C17:G17) -> 0 | C17: =SUM(Budget_input!C8,Budget_input!C16,Budget_input!C24,Budget_input!C32,Budget_input!C40) -> 0 | D17: =SUM(Budget_input!D8,Budget_input!D16,Budget_input!D24,Budget_input!D32,Budget_input!D40) -> 0 | E17: =SUM(Budget_input!E8,Budget_input!E16,Budget_input!E24,Budget_input!E32,Budget_input!E40) -> 0 | F17: =SUM(Budget_input!F8,Budget_input!F16,Budget_input!F24,Budget_input!F32,Budget_input!F40) -> 0 | G17: =SUM(Budget_input!G8,Budget_input!G16,Budget_input!G24,Budget_input!G32,Budget_input!G40) -> 0
A18: TAP salaries | B18: =SUM(C18:G18) -> 0 | C18: =SUM(Budget_input!C9,Budget_input!C17,Budget_input!C25,Budget_input!C33,Budget_input!C41) -> 0 | D18: =SUM(Budget_input!D9,Budget_input!D17,Budget_input!D25,Budget_input!D33,Budget_input!D41) -> 0 | E18: =SUM(Budget_input!E9,Budget_input!E17,Budget_input!E25,Budget_input!E33,Budget_input!E41) -> 0 | F18: =SUM(Budget_input!F9,Budget_input!F17,Budget_input!F25,Budget_input!F33,Budget_input!F41) -> 0 | G18: =SUM(Budget_input!G9,Budget_input!G17,Budget_input!G25,Budget_input!G33,Budget_input!G41) -> 0
A19: Equipment expenses | B19: =SUM(C19:G19) -> 0 | C19: =SUM(Budget_input!C10,Budget_input!C18,Budget_input!C26,Budget_input!C34,Budget_input!C42) -> 0 | D19: =SUM(Budget_input!D10,Budget_input!D18,Budget_input!D26,Budget_input!D34,Budget_input!D42) -> 0 | E19: =SUM(Budget_input!E10,Budget_input!E18,Budget_input!E26,Budget_input!E34,Budget_input!E42) -> 0 | F19: =SUM(Budget_input!F10,Budget_input!F18,Budget_input!F26,Budget_input!F34,Budget_input!F42) -> 0 | G19: =SUM(Budget_input!G10,Budget_input!G18,Budget_input!G26,Budget_input!G34,Budget_input!G42) -> 0
A20: Operating expenses | B20: =SUM(C20:G20) -> 0 | C20: =SUM(Budget_input!C11,Budget_input!C19,Budget_input!C27,Budget_input!C35,Budget_input!C43) -> 0 | D20: =SUM(Budget_input!D11,Budget_input!D19,Budget_input!D27,Budget_input!D35,Budget_input!D43) -> 0 | E20: =SUM(Budget_input!E11,Budget_input!E19,Budget_input!E27,Budget_input!E35,Budget_input!E43) -> 0 | F20: =SUM(Budget_input!F11,Budget_input!F19,Budget_input!F27,Budget_input!F35,Budget_input!F43) -> 0 | G20: =SUM(Budget_input!G11,Budget_input!G19,Budget_input!G27,Budget_input!G35,Budget_input!G43) -> 0
A21: Total Glud grant applied | B21: =SUM(B17:B20) -> 0 | C21: =SUM(Budget_input!C12,Budget_input!C20,Budget_input!C28,Budget_input!C36,Budget_input!C44) -> 0 | D21: =SUM(Budget_input!D12,Budget_input!D20,Budget_input!D28,Budget_input!D36,Budget_input!D44) -> 0 | E21: =SUM(Budget_input!E12,Budget_input!E20,Budget_input!E28,Budget_input!E36,Budget_input!E44) -> 0 | F21: =SUM(Budget_input!F12,Budget_input!F20,Budget_input!F28,Budget_input!F36,Budget_input!F44) -> 0 | G21: =SUM(Budget_input!G12,Budget_input!G20,Budget_input!G28,Budget_input!G36,Budget_input!G44) -> 0
A23: C: Co-financing | B23: Total | C23: =C9 -> 2026 | D23: =D9 -> 2027 | E23: =E9 -> 2028 | F23: =F9 -> 2029 | G23: =G9 -> 2030
A24: VIP salaries | B24: =SUM(C24:G24) -> 0 | C24: =SUM(Budget_input!C51,Budget_input!C59,Budget_input!C67,Budget_input!C75,Budget_input!C83) -> 0 | D24: =SUM(Budget_input!D51,Budget_input!D59,Budget_input!D67,Budget_input!D75,Budget_input!D83) -> 0 | E24: =SUM(Budget_input!E51,Budget_input!E59,Budget_input!E67,Budget_input!E75,Budget_input!E83) -> 0 | F24: =SUM(Budget_input!F51,Budget_input!F59,Budget_input!F67,Budget_input!F75,Budget_input!F83) -> 0 | G24: =SUM(Budget_input!G51,Budget_input!G59,Budget_input!G67,Budget_input!G75,Budget_input!G83) -> 0
A25: TAP salaries | B25: =SUM(C25:G25) -> 0 | C25: =SUM(Budget_input!C52,Budget_input!C60,Budget_input!C68,Budget_input!C76,Budget_input!C84) -> 0 | D25: =SUM(Budget_input!D52,Budget_input!D60,Budget_input!D68,Budget_input!D76,Budget_input!D84) -> 0 | E25: =SUM(Budget_input!E52,Budget_input!E60,Budget_input!E68,Budget_input!E76,Budget_input!E84) -> 0 | F25: =SUM(Budget_input!F52,Budget_input!F60,Budget_input!F68,Budget_input!F76,Budget_input!F84) -> 0 | G25: =SUM(Budget_input!G52,Budget_input!G60,Budget_input!G68,Budget_input!G76,Budget_input!G84) -> 0
A26: Equipment expenses | B26: =SUM(C26:G26) -> 0 | C26: =SUM(Budget_input!C53,Budget_input!C61,Budget_input!C69,Budget_input!C77,Budget_input!C85) -> 0 | D26: =SUM(Budget_input!D53,Budget_input!D61,Budget_input!D69,Budget_input!D77,Budget_input!D85) -> 0 | E26: =SUM(Budget_input!E53,Budget_input!E61,Budget_input!E69,Budget_input!E77,Budget_input!E85) -> 0 | F26: =SUM(Budget_input!F53,Budget_input!F61,Budget_input!F69,Budget_input!F77,Budget_input!F85) -> 0 | G26: =SUM(Budget_input!G53,Budget_input!G61,Budget_input!G69,Budget_input!G77,Budget_input!G85) -> 0
A27: Operating expenses | B27: =SUM(C27:G27) -> 0 | C27: =SUM(Budget_input!C54,Budget_input!C62,Budget_input!C70,Budget_input!C78,Budget_input!C86) -> 0 | D27: =SUM(Budget_input!D54,Budget_input!D62,Budget_input!D70,Budget_input!D78,Budget_input!D86) -> 0 | E27: =SUM(Budget_input!E54,Budget_input!E62,Budget_input!E70,Budget_input!E78,Budget_input!E86) -> 0 | F27: =SUM(Budget_input!F54,Budget_input!F62,Budget_input!F70,Budget_input!F78,Budget_input!F86) -> 0 | G27: =SUM(Budget_input!G54,Budget_input!G62,Budget_input!G70,Budget_input!G78,Budget_input!G86) -> 0
A28: Total Co-financing | B28: =SUM(B24:B27) -> 0 | C28: =SUM(Budget_input!C55,Budget_input!C63,Budget_input!C71,Budget_input!C79,Budget_input!C87) -> 0 | D28: =SUM(Budget_input!D55,Budget_input!D63,Budget_input!D71,Budget_input!D79,Budget_input!D87) -> 0 | E28: =SUM(Budget_input!E55,Budget_input!E63,Budget_input!E71,Budget_input!E79,Budget_input!E87) -> 0 | F28: =SUM(Budget_input!F55,Budget_input!F63,Budget_input!F71,Budget_input!F79,Budget_input!F87) -> 0 | G28: =SUM(Budget_input!G55,Budget_input!G63,Budget_input!G71,Budget_input!G79,Budget_input!G87) -> 0
A30: D: Funding from other sources | B30: Total | C30: =C9 -> 2026 | D30: =D9 -> 2027 | E30: =E9 -> 2028 | F30: =F9 -> 2029 | G30: =G9 -> 2030
A31: VIP salaries | B31: =SUM(C31:G31) -> 0 | C31: =SUM(Budget_input!C94,Budget_input!C102,Budget_input!C110,Budget_input!C118,Budget_input!C126) -> 0 | D31: =SUM(Budget_input!D94,Budget_input!D102,Budget_input!D110,Budget_input!D118,Budget_input!D126) -> 0 | E31: =SUM(Budget_input!E94,Budget_input!E102,Budget_input!E110,Budget_input!E118,Budget_input!E126) -> 0 | F31: =SUM(Budget_input!F94,Budget_input!F102,Budget_input!F110,Budget_input!F118,Budget_input!F126) -> 0 | G31: =SUM(Budget_input!G94,Budget_input!G102,Budget_input!G110,Budget_input!G118,Budget_input!G126) -> 0
A32: TAP salaries | B32: =SUM(C32:G32) -> 0 | C32: =SUM(Budget_input!C95,Budget_input!C103,Budget_input!C111,Budget_input!C119,Budget_input!C127) -> 0 | D32: =SUM(Budget_input!D95,Budget_input!D103,Budget_input!D111,Budget_input!D119,Budget_input!D127) -> 0 | E32: =SUM(Budget_input!E95,Budget_input!E103,Budget_input!E111,Budget_input!E119,Budget_input!E127) -> 0 | F32: =SUM(Budget_input!F95,Budget_input!F103,Budget_input!F111,Budget_input!F119,Budget_input!F127) -> 0 | G32: =SUM(Budget_input!G95,Budget_input!G103,Budget_input!G111,Budget_input!G119,Budget_input!G127) -> 0
A33: Equipment expenses | B33: =SUM(C33:G33) -> 0 | C33: =SUM(Budget_input!C96,Budget_input!C104,Budget_input!C112,Budget_input!C120,Budget_input!C128) -> 0 | D33: =SUM(Budget_input!D96,Budget_input!D104,Budget_input!D112,Budget_input!D120,Budget_input!D128) -> 0 | E33: =SUM(Budget_input!E96,Budget_input!E104,Budget_input!E112,Budget_input!E120,Budget_input!E128) -> 0 | F33: =SUM(Budget_input!F96,Budget_input!F104,Budget_input!F112,Budget_input!F120,Budget_input!F128) -> 0 | G33: =SUM(Budget_input!G96,Budget_input!G104,Budget_input!G112,Budget_input!G120,Budget_input!G128) -> 0
A34: Operating expenses | B34: =SUM(C34:G34) -> 0 | C34: =SUM(Budget_input!C97,Budget_input!C105,Budget_input!C113,Budget_input!C121,Budget_input!C129) -> 0 | D34: =SUM(Budget_input!D97,Budget_input!D105,Budget_input!D113,Budget_input!D121,Budget_input!D129) -> 0 | E34: =SUM(Budget_input!E97,Budget_input!E105,Budget_input!E113,Budget_input!E121,Budget_input!E129) -> 0 | F34: =SUM(Budget_input!F97,Budget_input!F105,Budget_input!F113,Budget_input!F121,Budget_input!F129) -> 0 | G34: =SUM(Budget_input!G97,Budget_input!G105,Budget_input!G113,Budget_input!G121,Budget_input!G129) -> 0
A35: Total funding from other sources | B35: =SUM(B31:B34) -> 0 | C35: =SUM(Budget_input!C98,Budget_input!C106,Budget_input!C114,Budget_input!C122,Budget_input!C130) -> 0 | D35: =SUM(Budget_input!D98,Budget_input!D106,Budget_input!D114,Budget_input!D122,Budget_input!D130) -> 0 | E35: =SUM(Budget_input!E98,Budget_input!E106,Budget_input!E114,Budget_input!E122,Budget_input!E130) -> 0 | F35: =SUM(Budget_input!F98,Budget_input!F106,Budget_input!F114,Budget_input!F122,Budget_input!F130) -> 0 | G35: =SUM(Budget_input!G98,Budget_input!G106,Budget_input!G114,Budget_input!G122,Budget_input!G130) -> 0
A38: Amount applied for (DKK) at Gluds legat: | B38: =B21 -> 0

Sheet Budget_input
A1: Budget input
A3: Gluds legat | B3: =Budget_summary!B3 -> 0
A5: All amounts must be stated in DKK
A6: B1: Grant receipient | B6: Total | C6: =Budget_summary!C9 -> 2026 | D6: =Budget_summary!D9 -> 2027 | E6: =Budget_summary!E9 -> 2028 | F6: =Budget_summary!F9 -> 2029 | G6: =Budget_summary!G9 -> 2030
A7: type name of institution/company and CVR nr
A8: VIP salaries | B8: =SUM(C8:G8) -> 0
A9: TAP salaries | B9: =SUM(C9:G9) -> 0
A10: Equipment expenses | B10: =SUM(C10:G10) -> 0
A11: Operating expenses | B11: =SUM(C11:G11) -> 0
A12: Total applied for | B12: =SUM(B8:B11) -> 0 | C12: =SUM(C8:C11) -> 0 | D12: =SUM(D8:D11) -> 0 | E12: =SUM(E8:E11) -> 0 | F12: =SUM(F8:F11) -> 0 | G12: =SUM(G8:G11) -> 0
A14: B2: Grant receipient | B14: Total | C14: =C6 -> 2026 | D14: =D6 -> 2027 | E14: =E6 -> 2028 | F14: =F6 -> 2029 | G14: =G6 -> 2030
A15: type name of institution/company and CVR nr
A16: VIP salaries | B16: =SUM(C16:G16) -> 0
A17: TAP salaries | B17: =SUM(C17:G17) -> 0
A18: Equipment expenses | B18: =SUM(C18:G18) -> 0
A19: Operating expenses | B19: =SUM(C19:G19) -> 0
A20: Total applied for | B20: =SUM(B16:B19) -> 0 | C20: =SUM(C16:C19) -> 0 | D20: =SUM(D16:D19) -> 0 | E20: =SUM(E16:E19) -> 0 | F20: =SUM(F16:F19) -> 0 | G20: =SUM(G16:G19) -> 0
A22: B3: Grant receipient | B22: Total | C22: =Budget_summary!C9 -> 2026 | D22: =Budget_summary!D9 -> 2027 | E22: =Budget_summary!E9 -> 2028 | F22: =Budget_summary!F9 -> 2029 | G22: =Budget_summary!G9 -> 2030
A23: type name of institution/company and CVR nr
A24: VIP salaries | B24: =SUM(C24:G24) -> 0
A25: TAP salaries | B25: =SUM(C25:G25) -> 0
A26: Equipment expenses | B26: =SUM(C26:G26) -> 0
A27: Operating expenses | B27: =SUM(C27:G27) -> 0
A28: Total applied for | B28: =SUM(B24:B27) -> 0 | C28: =SUM(C24:C27) -> 0 | D28: =SUM(D24:D27) -> 0 | E28: =SUM(E24:E27) -> 0 | F28: =SUM(F24:F27) -> 0 | G28: =SUM(G24:G27) -> 0
A30: B4: Grant receipient | B30: Total | C30: =Budget_summary!C9 -> 2026 | D30: =Budget_summary!D9 -> 2027 | E30: =Budget_summary!E9 -> 2028 | F30: =Budget_summary!F9 -> 2029 | G30: =Budget_summary!G9 -> 2030
A31: type name of institution/company and CVR nr
A32: VIP salaries | B32: =SUM(C32:G32) -> 0
A33: TAP salaries | B33: =SUM(C33:G33) -> 0
A34: Equipment expenses | B34: =SUM(C34:G34) -> 0
A35: Operating expenses | B35: =SUM(C35:G35) -> 0
A36: Total applied for | B36: =SUM(B32:B35) -> 0 | C36: =SUM(C32:C35) -> 0 | D36: =SUM(D32:D35) -> 0 | E36: =SUM(E32:E35) -> 0 | F36: =SUM(F32:F35) -> 0 | G36: =SUM(G32:G35) -> 0
A38: B5: Grant receipient | B38: Total | C38: =Budget_summary!C9 -> 2026 | D38: =Budget_summary!D9 -> 2027 | E38: =Budget_summary!E9 -> 2028 | F38: =Budget_summary!F9 -> 2029 | G38: =Budget_summary!G9 -> 2030
A39: type name of institution/company and CVR nr
A40: VIP salaries | B40: =SUM(C40:G40) -> 0
A41: TAP salaries | B41: =SUM(C41:G41) -> 0
A42: Equipment expenses | B42: =SUM(C42:G42) -> 0
A43: Operating expenses | B43: =SUM(C43:G43) -> 0
A44: Total applied for | B44: =SUM(B40:B43) -> 0 | C44: =SUM(C40:C43) -> 0 | D44: =SUM(D40:D43) -> 0 | E44: =SUM(E40:E43) -> 0 | F44: =SUM(F40:F43) -> 0 | G44: =SUM(G40:G43) -> 0
A46: CO-FINANCING
A48: All amounts must be stated in DKK
...
